BEGIN:VCALENDAR
VERSION:2.0
PRODID:-//Nick Halley - ECPv5.16.2.1//NONSGML v1.0//EN
CALSCALE:GREGORIAN
METHOD:PUBLISH
X-WR-CALNAME:Nick Halley
X-ORIGINAL-URL:http://nickhalley.com
X-WR-CALDESC:Events for Nick Halley
BEGIN:VTIMEZONE
TZID:America/Halifax
BEGIN:DAYLIGHT
TZOFFSETFROM:-0400
TZOFFSETTO:-0300
TZNAME:ADT
DTSTART:20250309T060000
END:DAYLIGHT
BEGIN:STANDARD
TZOFFSETFROM:-0300
TZOFFSETTO:-0400
TZNAME:AST
DTSTART:20251102T050000
END:STANDARD
END:VTIMEZONE
BEGIN:VEVENT
DTSTART;TZID=America/Halifax:20251220T160000
DTEND;TZID=America/Halifax:20251220T160000
DTSTAMP:20260422T170531
CREATED:20251108T144103Z
LAST-MODIFIED:20251108T144103Z
UID:1864-1766246400-1766246400@nickhalley.com
SUMMARY:A Chorister's Christmas 2025 - Lunenburg
DESCRIPTION:Capella Regalis Men & Boys Choir\, directed by Nick Halley\, will return to the historic Saint John’s Anglican Church in Lunenburg for a performance of its 16th annual Christmas concert series\, featuring a fresh slate of carols arranged for choir\, trumpet\, and organ. \nThis year’s concert program will reflect Nova Scotia’s increasingly multicultural population and celebrate the diverse heritage of our choir members with music in languages spoken by the choristers. Capella Regalis South Shore Program choristers will make a special guest appearance in the Lunenburg performance! \nEntrance is free. A free-will offering is accepted with proceeds going to the Lunenburg Inter-church Food Bank and Second Story Women’s Centre. \nThe Lunenburg performance is presented by Musique Royale. Seats may be reserved in advance online\, beginning later this fall. Stay tuned here for details!
URL:http://nickhalley.com/event/a-choristers-christmas-2025-lunenburg/
LOCATION:St John’s Anglican Church\, Lunenburg
END:VEVENT
END:VCALENDAR