BEGIN:VCALENDAR
VERSION:2.0
PRODID:-//Nick Halley - ECPv5.16.2.1//NONSGML v1.0//EN
CALSCALE:GREGORIAN
METHOD:PUBLISH
X-WR-CALNAME:Nick Halley
X-ORIGINAL-URL:http://nickhalley.com
X-WR-CALDESC:Events for Nick Halley
BEGIN:VTIMEZONE
TZID:America/Halifax
BEGIN:DAYLIGHT
TZOFFSETFROM:-0400
TZOFFSETTO:-0300
TZNAME:ADT
DTSTART:20240310T060000
END:DAYLIGHT
BEGIN:STANDARD
TZOFFSETFROM:-0300
TZOFFSETTO:-0400
TZNAME:AST
DTSTART:20241103T050000
END:STANDARD
END:VTIMEZONE
BEGIN:VEVENT
DTSTART;TZID=America/Halifax:20240725T200000
DTEND;TZID=America/Halifax:20240725T200000
DTSTAMP:20260422T095957
CREATED:20240718T143614Z
LAST-MODIFIED:20240718T144149Z
UID:1439-1721937600-1721937600@nickhalley.com
SUMMARY:Boxwood 2024: Waterfront Ceili - Music & Dance
DESCRIPTION:Bring your dancing shoes for one of the best Ceili dances on the South Shore each year. The dance begins at 8 PM at the Lunenburg Waterfront. An ensemble of musicians will play music and caller Pauline Hingston will lead experts and newbies alike in squares\, sets\, barn dances and waltzes with Boxwood’s guest artists and participants on the bandstand (including Nick Halley!).\n\nThis event is free and open to the public presented by Boxwood Festival Society and made possible with support from Canadian Heritage\, Culture Ireland\, and the Robinson Family Trust\, The Municipality and Town of Lunenburg\, and the Fisheries Museum of the Atlantic.
URL:http://nickhalley.com/event/boxwood-2024-waterfront-ceili-music-dance/
LOCATION:Lunenburg Waterfront
ATTACH;FMTTYPE=image/png:http://nickhalley.com/wp-content/uploads/2024/07/Ceili-BW_CA_2024-600x338-1.png
END:VEVENT
END:VCALENDAR