BEGIN:VCALENDAR
VERSION:2.0
PRODID:-//Nick Halley - ECPv5.16.2.1//NONSGML v1.0//EN
CALSCALE:GREGORIAN
METHOD:PUBLISH
X-WR-CALNAME:Nick Halley
X-ORIGINAL-URL:http://nickhalley.com
X-WR-CALDESC:Events for Nick Halley
BEGIN:VTIMEZONE
TZID:America/Halifax
BEGIN:DAYLIGHT
TZOFFSETFROM:-0400
TZOFFSETTO:-0300
TZNAME:ADT
DTSTART:20240310T060000
END:DAYLIGHT
BEGIN:STANDARD
TZOFFSETFROM:-0300
TZOFFSETTO:-0400
TZNAME:AST
DTSTART:20241103T050000
END:STANDARD
END:VTIMEZONE
BEGIN:VEVENT
DTSTART;TZID=America/Halifax:20240211T173000
DTEND;TZID=America/Halifax:20240211T200000
DTSTAMP:20260422T084144
CREATED:20231212T130726Z
LAST-MODIFIED:20231212T131436Z
UID:1389-1707672600-1707681600@nickhalley.com
SUMMARY:Brazilian Night: A Fundraising Party for Capella Regalis
DESCRIPTION:TICKETS & DETAILS: capellaregalis.com.\nJoin us to celebrate the Carnival season before Lent and raise funds for Capella Regalis! Nick Halley (percussion)\, Paul Halley (piano)\, John Suiters (guitar)\, Tom Easley (bass)\, Nicola Miller (saxophone)\, and other friends will be playing live samba and Brazilian jazz standards from the Rio and Bahia regions. $150 ticket includes $75 tax receipt\, full dinner of catered Brazilian fare\, one featured Brazilian cocktail\, and live Brazilian music. (Dancing is encouraged!) Cash bar for additional beverages. This is a family-friendly event: $35 children’s ticket includes children’s menu. All proceeds benefit Capella Regalis Choirs’s free music education and outreach programs. 
URL:http://nickhalley.com/event/brazilian-night-a-fundraising-party-for-capella-regalis-2/
LOCATION:All Saints Cathedral\, 1330 Cathedral Ln\, Halifax\, NS\, B3H 2Z1\, Canada
CATEGORIES:Capella Regalis
ATTACH;FMTTYPE=image/jpeg:http://nickhalley.com/wp-content/uploads/2023/12/Brazilian-Night-23-postcard-front-2-1.jpeg
END:VEVENT
END:VCALENDAR