BEGIN:VCALENDAR
VERSION:2.0
PRODID:-//Nick Halley - ECPv5.16.2.1//NONSGML v1.0//EN
CALSCALE:GREGORIAN
METHOD:PUBLISH
X-WR-CALNAME:Nick Halley
X-ORIGINAL-URL:http://nickhalley.com
X-WR-CALDESC:Events for Nick Halley
BEGIN:VTIMEZONE
TZID:America/Halifax
BEGIN:DAYLIGHT
TZOFFSETFROM:-0400
TZOFFSETTO:-0300
TZNAME:ADT
DTSTART:20210314T060000
END:DAYLIGHT
BEGIN:STANDARD
TZOFFSETFROM:-0300
TZOFFSETTO:-0400
TZNAME:AST
DTSTART:20211107T050000
END:STANDARD
END:VTIMEZONE
BEGIN:VEVENT
DTSTART;TZID=America/Halifax:20211022T193000
DTEND;TZID=America/Halifax:20211022T193000
DTSTAMP:20260422T071601
CREATED:20210924T153921Z
LAST-MODIFIED:20210924T155502Z
UID:1006-1634931000-1634931000@nickhalley.com
SUMMARY:Dinuk Wijeratne Trio - Tatamagouche
DESCRIPTION:Upcoming Concerts
URL:http://nickhalley.com/event/dinuk-wijeratne-trio-tatamagouche/
LOCATION:Grace Jollymore Joyce Arts Centre\, 31 Creamery Road\, Tatamagouche\, NS\, Canada
CATEGORIES:Concerts
ORGANIZER;CN="Grace%20Jollymore%20Joyce%20Arts%20Centre":MAILTO:arts@creamerysquare.ca
END:VEVENT
END:VCALENDAR