BEGIN:VCALENDAR
VERSION:2.0
PRODID:-//Nick Halley - ECPv5.16.2.1//NONSGML v1.0//EN
CALSCALE:GREGORIAN
METHOD:PUBLISH
X-WR-CALNAME:Nick Halley
X-ORIGINAL-URL:http://nickhalley.com
X-WR-CALDESC:Events for Nick Halley
BEGIN:VTIMEZONE
TZID:America/Halifax
BEGIN:DAYLIGHT
TZOFFSETFROM:-0400
TZOFFSETTO:-0300
TZNAME:ADT
DTSTART:20250309T060000
END:DAYLIGHT
BEGIN:STANDARD
TZOFFSETFROM:-0300
TZOFFSETTO:-0400
TZNAME:AST
DTSTART:20251102T050000
END:STANDARD
END:VTIMEZONE
BEGIN:VEVENT
DTSTART;TZID=America/Halifax:20251105T180000
DTEND;TZID=America/Halifax:20251105T200000
DTSTAMP:20260422T124339
CREATED:20251101T183030Z
LAST-MODIFIED:20251101T183030Z
UID:1851-1762365600-1762372800@nickhalley.com
SUMMARY:Foc’s’le Jazz Jam
DESCRIPTION:An open jam session hosted by local jazz musicians Nicola Miller\, Nick Halley and Nick D’Amato. Bring your instrument and come to play your favourite jazz standards in a supportive and encouraging environment. Open to all levels and ages. For more information visit: https://www.thebarnacle.ca/event/focsle-jazz-jam/2025-011-05/
URL:http://nickhalley.com/event/focsle-jazz-jam-3/
LOCATION:42 Queen St.\, Chester\, NS
END:VEVENT
END:VCALENDAR