BEGIN:VCALENDAR
VERSION:2.0
PRODID:-//Nick Halley - ECPv5.16.2.1//NONSGML v1.0//EN
CALSCALE:GREGORIAN
METHOD:PUBLISH
X-WR-CALNAME:Nick Halley
X-ORIGINAL-URL:http://nickhalley.com
X-WR-CALDESC:Events for Nick Halley
BEGIN:VTIMEZONE
TZID:America/Halifax
BEGIN:DAYLIGHT
TZOFFSETFROM:-0400
TZOFFSETTO:-0300
TZNAME:ADT
DTSTART:20260308T060000
END:DAYLIGHT
BEGIN:STANDARD
TZOFFSETFROM:-0300
TZOFFSETTO:-0400
TZNAME:AST
DTSTART:20261101T050000
END:STANDARD
END:VTIMEZONE
BEGIN:VEVENT
DTSTART;TZID=America/Halifax:20260328T193000
DTEND;TZID=America/Halifax:20260328T193000
DTSTAMP:20260417T192059
CREATED:20260314T000434Z
LAST-MODIFIED:20260314T000434Z
UID:1974-1774726200-1774726200@nickhalley.com
SUMMARY:IDENTITY: A Song Cycle
DESCRIPTION:Join us for IDENTITY: A Song Cycle on Saturday\, March 28\, 2026\, at 7:30 PM! This performance offers a rare opportunity to experience a groundbreaking work exploring multicultural identity through music\, poetry\, and storytelling. \nGRAMMY Award-winning baritone Elliot Madore brings to life this world premiere song cycle\, with music by JUNO Award-winning composer Dinuk Wijeratne\, poetry by acclaimed African Nova Scotian artist Shauntay Grant\, and performances by bassist Tyler Emond\, pianist/composer Dinuk Wijeratne\, and percussionist Nick Halley. Melding Western classical traditions with global musical styles—from South Asian and Middle Eastern influences to modern Pop and Jazz—IDENTITY creates a rich\, multifaceted soundscape reflecting the complexity of self and belonging. \nFor tickets\, visit: https://www.ceciliaconcerts.ca/concert/identity-a-song-cycle/
URL:http://nickhalley.com/event/identity-a-song-cycle/
LOCATION:St Andrew’s Church\, 6036 Coburg Rd\, Halifax\,\, Nova Scotia\, B3H 1Y9\, Canada
ORGANIZER;CN="Cecilia%20Concerts":MAILTO:music@ceciliaconcerts.ca
END:VEVENT
END:VCALENDAR