BEGIN:VCALENDAR
VERSION:2.0
PRODID:-//Nick Halley - ECPv5.16.2.1//NONSGML v1.0//EN
CALSCALE:GREGORIAN
METHOD:PUBLISH
X-WR-CALNAME:Nick Halley
X-ORIGINAL-URL:http://nickhalley.com
X-WR-CALDESC:Events for Nick Halley
BEGIN:VTIMEZONE
TZID:America/Halifax
BEGIN:DAYLIGHT
TZOFFSETFROM:-0400
TZOFFSETTO:-0300
TZNAME:ADT
DTSTART:20240310T060000
END:DAYLIGHT
BEGIN:STANDARD
TZOFFSETFROM:-0300
TZOFFSETTO:-0400
TZNAME:AST
DTSTART:20241103T050000
END:STANDARD
END:VTIMEZONE
BEGIN:VEVENT
DTSTART;TZID=America/Halifax:20240719T170000
DTEND;TZID=America/Halifax:20240719T183000
DTSTAMP:20260422T071821
CREATED:20240718T141935Z
LAST-MODIFIED:20240718T142656Z
UID:1426-1721408400-1721413800@nickhalley.com
SUMMARY:Lunenburg\, NS - Summer Jazz Series at LAMP w/ Glenn Patscha and Ian McGimpsey
DESCRIPTION:Join Glenn Patscha\, Nick Halley and Ian McGimpsey for the second of three concerts held this summer in LAMP’s (Lunenburg Academy of Music Performance) beautiful concert hall. Start your weekend with two hours of fantastic tunes and then head out on the town and enjoy dinner in one of Lunenburg’s many fabulous restaurants. For more info and to reserve tickets\, visit lampns.ca.
URL:http://nickhalley.com/event/lunenburg-ns-summer-jazz-series-at-lamp-w-glenn-patscha-and-ian-mcgimpsey/
LOCATION:Lunenburg Academy\, 101 Kaulbach St\, Lunenburg\, Nova Scotia\, Canada
CATEGORIES:Concerts
ATTACH;FMTTYPE=image/jpeg:http://nickhalley.com/wp-content/uploads/2024/07/jazznewsletter.jpg
END:VEVENT
END:VCALENDAR