BEGIN:VCALENDAR
VERSION:2.0
PRODID:-//Nick Halley - ECPv5.16.2.1//NONSGML v1.0//EN
CALSCALE:GREGORIAN
METHOD:PUBLISH
X-WR-CALNAME:Nick Halley
X-ORIGINAL-URL:http://nickhalley.com
X-WR-CALDESC:Events for Nick Halley
BEGIN:VTIMEZONE
TZID:America/Halifax
BEGIN:DAYLIGHT
TZOFFSETFROM:-0400
TZOFFSETTO:-0300
TZNAME:ADT
DTSTART:20240310T060000
END:DAYLIGHT
BEGIN:STANDARD
TZOFFSETFROM:-0300
TZOFFSETTO:-0400
TZNAME:AST
DTSTART:20241103T050000
END:STANDARD
END:VTIMEZONE
BEGIN:VEVENT
DTSTART;VALUE=DATE:20240721
DTEND;VALUE=DATE:20240727
DTSTAMP:20260422T084424
CREATED:20240718T143351Z
LAST-MODIFIED:20240718T143351Z
UID:1436-1721520000-1722038399@nickhalley.com
SUMMARY:Nick Halley's World Music Ensemble - Boxwood Festival\, Lunenburg
DESCRIPTION:Nick Halley’s World Music Ensemble workshop is back! To learn more about the Boxwood Festival\, including the guest musicians\, workshops\, public concerts\, sessions\, the ceili and more\, visit boxwood.org/canada.
URL:http://nickhalley.com/event/nick-halleys-world-music-ensemble-boxwood-festival-lunenburg/
LOCATION:Lunenburg Academy\, 101 Kaulbach St\, Lunenburg\, Nova Scotia\, Canada
ATTACH;FMTTYPE=image/png:http://nickhalley.com/wp-content/uploads/2024/07/unnamed-file.png
END:VEVENT
END:VCALENDAR