BEGIN:VCALENDAR
VERSION:2.0
PRODID:-//Nick Halley - ECPv5.16.2.1//NONSGML v1.0//EN
CALSCALE:GREGORIAN
METHOD:PUBLISH
X-WR-CALNAME:Nick Halley
X-ORIGINAL-URL:http://nickhalley.com
X-WR-CALDESC:Events for Nick Halley
BEGIN:VTIMEZONE
TZID:America/Halifax
BEGIN:DAYLIGHT
TZOFFSETFROM:-0400
TZOFFSETTO:-0300
TZNAME:ADT
DTSTART:20260308T060000
END:DAYLIGHT
BEGIN:STANDARD
TZOFFSETFROM:-0300
TZOFFSETTO:-0400
TZNAME:AST
DTSTART:20261101T050000
END:STANDARD
END:VTIMEZONE
BEGIN:VEVENT
DTSTART;TZID=America/Halifax:20260322T160000
DTEND;TZID=America/Halifax:20260322T160000
DTSTAMP:20260423T073704
CREATED:20260202T130011Z
LAST-MODIFIED:20260203T215218Z
UID:1949-1774195200-1774195200@nickhalley.com
SUMMARY:St John Passion – J.S. Bach
DESCRIPTION:Capella Regalis directed by Nick Halley is proud to present one of J.S. Bach’s famous Passiontide oratorios at All Saints Cathedral on Sunday\, March 22\, 2026 in a collaborative performance featuring the hand-picked Ensemble Regale chamber orchestra\, guest vocal soloists\, and the professional singers of the Capella Regalis Men’s Choir and All Saints Cathedral Choir alongside the Boys and Girls Choirs. Don’t miss this unique opportunity to hear a live performance of Bach’s extraordinary masterwork in Halifax! \n  \nGuest soloists: \nCHARLES DANIELS\, Evangelist \nELLIOT MADORE\, Pontius Pilate \nALEXANDER DOBSON\, Jesus \nSINÉAD WHITE\, Soprano \nMARIE-ANDRÉE MATHIEU\, Mezzo-soprano \nMATTHEW ANDERSON\, Tenor \n  \nTickets are available here: https://capellaregalis.com/events/st-john-passion-js-bach
URL:http://nickhalley.com/event/st-john-passion-j-s-bach/
LOCATION:All Saints Cathedral\, 1330 Cathedral Ln\, Halifax\, NS\, B3H 2Z1\, Canada
END:VEVENT
END:VCALENDAR