BEGIN:VCALENDAR
VERSION:2.0
PRODID:-//Nick Halley - ECPv5.16.2.1//NONSGML v1.0//EN
CALSCALE:GREGORIAN
METHOD:PUBLISH
X-WR-CALNAME:Nick Halley
X-ORIGINAL-URL:http://nickhalley.com
X-WR-CALDESC:Events for Nick Halley
BEGIN:VTIMEZONE
TZID:America/Halifax
BEGIN:DAYLIGHT
TZOFFSETFROM:-0400
TZOFFSETTO:-0300
TZNAME:ADT
DTSTART:20250309T060000
END:DAYLIGHT
BEGIN:STANDARD
TZOFFSETFROM:-0300
TZOFFSETTO:-0400
TZNAME:AST
DTSTART:20251102T050000
END:STANDARD
END:VTIMEZONE
BEGIN:VEVENT
DTSTART;TZID=America/Halifax:20250823T170000
DTEND;TZID=America/Halifax:20250823T170000
DTSTAMP:20260422T055238
CREATED:20250804T132524Z
LAST-MODIFIED:20250804T132524Z
UID:1780-1755968400-1755968400@nickhalley.com
SUMMARY:Summer Jazz @ LAMP: Music of Sonny Rollins
DESCRIPTION:Experience the magic of summer jazz on Saturday\, August 23\, at the Lunenburg Academy of Music Performance with A Tribute to Sonny Rollins\, an open-air concert featuring Nick Halley on drums\, Tom Easley on bass\, Richard White on guitar\, and Mike Murley on saxophone. \nSet against the backdrop of the historic Lunenburg Academy\, this concert offers a unique chance to enjoy world-class jazz in one of Nova Scotia’s most picturesque locations. Doors open at 5 PM\, the LAMP Libations bar will be open\, and with nearby dining in Lunenburg\, Mahone Bay\, or Chester\, it’s the perfect way to spend a summer evening. Entrance: $35. \nFor more info\, visit: https://www.lampns.ca/concerts/jazz-sonny-rollins
URL:http://nickhalley.com/event/summer-jazz-lamp-music-of-sonny-rollins/
END:VEVENT
END:VCALENDAR