BEGIN:VCALENDAR
VERSION:2.0
PRODID:-//Nick Halley - ECPv5.16.2.1//NONSGML v1.0//EN
CALSCALE:GREGORIAN
METHOD:PUBLISH
X-WR-CALNAME:Nick Halley
X-ORIGINAL-URL:https://nickhalley.com
X-WR-CALDESC:Events for Nick Halley
BEGIN:VTIMEZONE
TZID:America/Halifax
BEGIN:DAYLIGHT
TZOFFSETFROM:-0400
TZOFFSETTO:-0300
TZNAME:ADT
DTSTART:20190310T060000
END:DAYLIGHT
BEGIN:STANDARD
TZOFFSETFROM:-0300
TZOFFSETTO:-0400
TZNAME:AST
DTSTART:20191103T050000
END:STANDARD
END:VTIMEZONE
BEGIN:VEVENT
DTSTART;TZID=America/Halifax:20190510T173000
DTEND;TZID=America/Halifax:20190510T183000
DTSTAMP:20260425T092728
CREATED:20190429T155522Z
LAST-MODIFIED:20190429T155555Z
UID:677-1557509400-1557513000@nickhalley.com
SUMMARY:Capella Regalis Spring Open House
DESCRIPTION:What is it like to be part of Capella Regalis? Come and find out! \n\nDo you know a boy age 6 – 12 who may be interested in singing? This is the perfect opportunity to come find out more about our programme. Boys\, parents\, educators\, all welcome. The Open House will start with a 15-minute performance by the choir\, followed by a brief talk by director Nick Halley\, followed by refreshments and a chance to meet current choristers and parents. \nCapella Regalis is a free programme open to any boy who passes an audition. There is a once-weekly junior choir programme that allows new choristers to learn the basics in a low-pressure environment and transition to the senior choir only when ready. In addition\, the choir offers transportation to regular rehearsals for any boy who otherwise would not be able to participate. \nThe choir was founded in Halifax by director Nick Halley in 2010 and is modeled on the great Anglican tradition of men and boys church choirs. While Canada was once rich with such choirs\, Capella Regalis is one of only a handful of liturgical men and boys choirs in Canada today. The choir sings Choral Evensong every week of the academic term in the University of King’s College Chapel. The choir also performs concerts throughout Nova Scotia and beyond in a busy September – June season. Past concerts include Bach’s St. Matthew Passion with the University of King’s Chapel Choir\, Carmina Burana with the Nova Scotia Youth Orchestra and the King’s Chorus\, the Paul Winter Consort’s Missa Gaia/Earth Mass with the King’s Chorus\, the recent production of Benjamin Britten’s Saint Nicolas with the King’s Chorus\, and the popular annual Christmas concert\, To Bethlehem with Kings. In addition to services and concerts\, the boys of Capella Regalis go on tours\, enjoy a summer choir camp in the last week of August\, and participate in various musically- and socially-enriching outings and experiences. \n\nFor further information\, contact the manager\, Vanessa Halley.
URL:https://nickhalley.com/event/capella-regalis-spring-open-house/
LOCATION:All Saints Cathedral\, Halifax\, NS Canada\, 1330 Chathedral Lane\, Halifax\, Nova Scotia\, Canada
CATEGORIES:Capella Regalis
ATTACH;FMTTYPE=image/jpeg:https://nickhalley.com/wp-content/uploads/2019/04/CR-Open-House-2019.jpg
END:VEVENT
END:VCALENDAR