BEGIN:VCALENDAR
VERSION:2.0
PRODID:-//Nick Halley - ECPv5.16.2.1//NONSGML v1.0//EN
CALSCALE:GREGORIAN
METHOD:PUBLISH
X-WR-CALNAME:Nick Halley
X-ORIGINAL-URL:https://nickhalley.com
X-WR-CALDESC:Events for Nick Halley
BEGIN:VTIMEZONE
TZID:America/Halifax
BEGIN:DAYLIGHT
TZOFFSETFROM:-0400
TZOFFSETTO:-0300
TZNAME:ADT
DTSTART:20240310T060000
END:DAYLIGHT
BEGIN:STANDARD
TZOFFSETFROM:-0300
TZOFFSETTO:-0400
TZNAME:AST
DTSTART:20241103T050000
END:STANDARD
END:VTIMEZONE
BEGIN:VEVENT
DTSTART;TZID=America/Halifax:20241006T150000
DTEND;TZID=America/Halifax:20241006T170000
DTSTAMP:20260422T080737
CREATED:20241003T213608Z
LAST-MODIFIED:20241003T213608Z
UID:1484-1728226800-1728234000@nickhalley.com
SUMMARY:Dinuk Wijeratne Trio Concert (Winnipeg\, MB)
DESCRIPTION:Don’t miss this exciting performance of jazz/world music by the Dinuk Wijeratne Trio on Sunday\, October 6. The Trio includes Dinuk Wijeratne on piano\, Nick Halley on drums\, and Tom Easley on bass. Dinuk Wijeratne is an award-winning Sri Lankan-born Canadian pianist\, composer\, and conductor. His boundary-crossing work has taken him to international venues as poles apart as the Berlin Philharmonie and the North Sea Jazz Festival. Based in Halifax\, Nova Scotia\, Nick Halley is a drummer/percussionist\, keyboardist\, composer\, and conductor. Tom Easley is a two-time East Coast Music Award Winner and one of Eastern Canada’s finest jazz bassists. \nConcert begins at 3:00 pm on October 6th at  Muriel Richardson Auditorium\, Winnipeg Art Gallery-Quamajuq\, Winnipeg. Click here for tickets and details.
URL:https://nickhalley.com/event/dinuk-wijeratne-trio-concert-winnipeg-mb/
LOCATION:Winnipeg Art Gallery-Quamajuq\, Muriel Richardson Auditorium
END:VEVENT
END:VCALENDAR