BEGIN:VCALENDAR
VERSION:2.0
PRODID:-//Nick Halley - ECPv5.16.2.1//NONSGML v1.0//EN
CALSCALE:GREGORIAN
METHOD:PUBLISH
X-WR-CALNAME:Nick Halley
X-ORIGINAL-URL:https://nickhalley.com
X-WR-CALDESC:Events for Nick Halley
BEGIN:VTIMEZONE
TZID:America/Halifax
BEGIN:DAYLIGHT
TZOFFSETFROM:-0400
TZOFFSETTO:-0300
TZNAME:ADT
DTSTART:20250309T060000
END:DAYLIGHT
BEGIN:STANDARD
TZOFFSETFROM:-0300
TZOFFSETTO:-0400
TZNAME:AST
DTSTART:20251102T050000
END:STANDARD
END:VTIMEZONE
BEGIN:VEVENT
DTSTART;TZID=America/Halifax:20250531T160000
DTEND;TZID=America/Halifax:20250531T170000
DTSTAMP:20260418T092048
CREATED:20250513T151240Z
LAST-MODIFIED:20250513T151240Z
UID:1696-1748707200-1748710800@nickhalley.com
SUMMARY:Joint Concert: Capella Regalis Halifax Choirs + South Shore Program
DESCRIPTION:Join us for this debut concert of the South Shore Program\, a new initiative of Capella Regalis which launched in November for young singers ages 8-12 at St John’s Church\, Lunenburg. Members of our Halifax choirs will join them for a day of camaraderie and performance in Lunenburg. Concert entrance is by free-will offering to Capella Regalis. No need to reserve in advance\, simply come to the door. Questions? Email boxoffice@capellaregalis.com.
URL:https://nickhalley.com/event/joint-concert-capella-regalis-halifax-choirs-south-shore-program/
LOCATION:St John’s Anglican Church\, Lunenburg
END:VEVENT
END:VCALENDAR